BEGIN:VCALENDAR
VERSION:2.0
PRODID:-//Blythefield CRC - ECPv5.14.1//NONSGML v1.0//EN
CALSCALE:GREGORIAN
METHOD:PUBLISH
X-WR-CALNAME:Blythefield CRC
X-ORIGINAL-URL:https://www.blythefieldcrc.com
X-WR-CALDESC:Events for Blythefield CRC
BEGIN:VTIMEZONE
TZID:America/Detroit
BEGIN:DAYLIGHT
TZOFFSETFROM:-0500
TZOFFSETTO:-0400
TZNAME:EDT
DTSTART:20250309T070000
END:DAYLIGHT
BEGIN:STANDARD
TZOFFSETFROM:-0400
TZOFFSETTO:-0500
TZNAME:EST
DTSTART:20251102T060000
END:STANDARD
END:VTIMEZONE
BEGIN:VEVENT
DTSTART;TZID=America/Detroit:20250330T120000
DTEND;TZID=America/Detroit:20250330T140000
DTSTAMP:20260420T195144
CREATED:20250121T151300Z
LAST-MODIFIED:20250121T151300Z
UID:9695-1743336000-1743343200@www.blythefieldcrc.com
SUMMARY:HSYG
DESCRIPTION:
URL:https://www.blythefieldcrc.com/event/hsyg-24/
END:VEVENT
END:VCALENDAR