BEGIN:VCALENDAR
VERSION:2.0
PRODID:-//Blythefield CRC - ECPv5.14.1//NONSGML v1.0//EN
CALSCALE:GREGORIAN
METHOD:PUBLISH
X-WR-CALNAME:Blythefield CRC
X-ORIGINAL-URL:https://www.blythefieldcrc.com
X-WR-CALDESC:Events for Blythefield CRC
BEGIN:VTIMEZONE
TZID:America/Detroit
BEGIN:DAYLIGHT
TZOFFSETFROM:-0500
TZOFFSETTO:-0400
TZNAME:EDT
DTSTART:20220313T070000
END:DAYLIGHT
BEGIN:STANDARD
TZOFFSETFROM:-0400
TZOFFSETTO:-0500
TZNAME:EST
DTSTART:20221106T060000
END:STANDARD
END:VTIMEZONE
BEGIN:VEVENT
DTSTART;TZID=America/Detroit:20221109T073000
DTEND;TZID=America/Detroit:20221109T090000
DTSTAMP:20260422T012011
CREATED:20221021T141548Z
LAST-MODIFIED:20221021T141803Z
UID:8031-1667979000-1667984400@www.blythefieldcrc.com
SUMMARY:Men's Fellowship
DESCRIPTION:Breakfast\, Bible study\, and fellowship at Russ’ on Plainfield
URL:https://www.blythefieldcrc.com/event/mens-fellowship-35/
LOCATION:Russ’ Plainfield\, 3966 Plainfield Ave NE\, Grand Rapids\, MI\, 49525\, United States
END:VEVENT
END:VCALENDAR