BEGIN:VCALENDAR
VERSION:2.0
PRODID:-//Blythefield CRC - ECPv5.14.1//NONSGML v1.0//EN
CALSCALE:GREGORIAN
METHOD:PUBLISH
X-WR-CALNAME:Blythefield CRC
X-ORIGINAL-URL:https://www.blythefieldcrc.com
X-WR-CALDESC:Events for Blythefield CRC
BEGIN:VTIMEZONE
TZID:America/Detroit
BEGIN:DAYLIGHT
TZOFFSETFROM:-0500
TZOFFSETTO:-0400
TZNAME:EDT
DTSTART:20180311T070000
END:DAYLIGHT
BEGIN:STANDARD
TZOFFSETFROM:-0400
TZOFFSETTO:-0500
TZNAME:EST
DTSTART:20181104T060000
END:STANDARD
END:VTIMEZONE
BEGIN:VEVENT
DTSTART;TZID=America/Detroit:20180401T100000
DTEND;TZID=America/Detroit:20180401T110000
DTSTAMP:20260424T081023
CREATED:20180328T195759Z
LAST-MODIFIED:20180328T195759Z
UID:1461-1522576800-1522580400@www.blythefieldcrc.com
SUMMARY:Easter Service
DESCRIPTION:
URL:https://www.blythefieldcrc.com/event/easter-service/
CATEGORIES:Church Service
END:VEVENT
BEGIN:VEVENT
DTSTART;TZID=America/Detroit:20180401T170000
DTEND;TZID=America/Detroit:20180401T180000
DTSTAMP:20260424T081023
CREATED:20180328T195426Z
LAST-MODIFIED:20180328T195426Z
UID:1455-1522602000-1522605600@www.blythefieldcrc.com
SUMMARY:No Evening Service
DESCRIPTION:
URL:https://www.blythefieldcrc.com/event/no-evening-service/
CATEGORIES:Church Service
END:VEVENT
END:VCALENDAR