BEGIN:VCALENDAR
VERSION:2.0
PRODID:-//Blythefield CRC - ECPv5.14.1//NONSGML v1.0//EN
CALSCALE:GREGORIAN
METHOD:PUBLISH
X-WR-CALNAME:Blythefield CRC
X-ORIGINAL-URL:https://www.blythefieldcrc.com
X-WR-CALDESC:Events for Blythefield CRC
BEGIN:VTIMEZONE
TZID:America/Detroit
BEGIN:DAYLIGHT
TZOFFSETFROM:-0500
TZOFFSETTO:-0400
TZNAME:EDT
DTSTART:20180311T070000
END:DAYLIGHT
BEGIN:STANDARD
TZOFFSETFROM:-0400
TZOFFSETTO:-0500
TZNAME:EST
DTSTART:20181104T060000
END:STANDARD
END:VTIMEZONE
BEGIN:VEVENT
DTSTART;TZID=America/Detroit:20180330T190000
DTEND;TZID=America/Detroit:20180330T200000
DTSTAMP:20260424T092421
CREATED:20180301T211744Z
LAST-MODIFIED:20180301T211744Z
UID:1424-1522436400-1522440000@www.blythefieldcrc.com
SUMMARY:Good Friday Evening Service
DESCRIPTION:
URL:https://www.blythefieldcrc.com/event/good-friday-evening-service/
LOCATION:Blythefield CRC\, 6350 Kuttshill Dr.\, Rockford\, MI\, 49341\, United States
CATEGORIES:Church Service
END:VEVENT
END:VCALENDAR