BEGIN:VCALENDAR
VERSION:2.0
PRODID:-//Blythefield CRC - ECPv5.14.1//NONSGML v1.0//EN
CALSCALE:GREGORIAN
METHOD:PUBLISH
X-WR-CALNAME:Blythefield CRC
X-ORIGINAL-URL:https://www.blythefieldcrc.com
X-WR-CALDESC:Events for Blythefield CRC
BEGIN:VTIMEZONE
TZID:America/Detroit
BEGIN:DAYLIGHT
TZOFFSETFROM:-0500
TZOFFSETTO:-0400
TZNAME:EDT
DTSTART:20180311T070000
END:DAYLIGHT
BEGIN:STANDARD
TZOFFSETFROM:-0400
TZOFFSETTO:-0500
TZNAME:EST
DTSTART:20181104T060000
END:STANDARD
END:VTIMEZONE
BEGIN:VEVENT
DTSTART;TZID=America/Detroit:20180327T093000
DTEND;TZID=America/Detroit:20180327T110000
DTSTAMP:20260424T093752
CREATED:20180301T212030Z
LAST-MODIFIED:20180301T212030Z
UID:1428-1522143000-1522148400@www.blythefieldcrc.com
SUMMARY:Ladies Bible Study
DESCRIPTION:
URL:https://www.blythefieldcrc.com/event/ladies-bible-study-6/
LOCATION:Blythefield CRC\, 6350 Kuttshill Dr.\, Rockford\, MI\, 49341\, United States
CATEGORIES:Church Group Meetings
END:VEVENT
BEGIN:VEVENT
DTSTART;TZID=America/Detroit:20180327T183000
DTEND;TZID=America/Detroit:20180327T200000
DTSTAMP:20260424T093752
CREATED:20180301T211246Z
LAST-MODIFIED:20180301T211246Z
UID:1413-1522175400-1522180800@www.blythefieldcrc.com
SUMMARY:Choir Rehearsal
DESCRIPTION:
URL:https://www.blythefieldcrc.com/event/choir-rehearsal-2/
LOCATION:Blythefield CRC\, 6350 Kuttshill Dr.\, Rockford\, MI\, 49341\, United States
CATEGORIES:Church Group Meetings
END:VEVENT
END:VCALENDAR