BEGIN:VCALENDAR
VERSION:2.0
PRODID:-//Blythefield CRC - ECPv5.14.1//NONSGML v1.0//EN
CALSCALE:GREGORIAN
METHOD:PUBLISH
X-WR-CALNAME:Blythefield CRC
X-ORIGINAL-URL:https://www.blythefieldcrc.com
X-WR-CALDESC:Events for Blythefield CRC
BEGIN:VTIMEZONE
TZID:America/Detroit
BEGIN:DAYLIGHT
TZOFFSETFROM:-0500
TZOFFSETTO:-0400
TZNAME:EDT
DTSTART:20180311T070000
END:DAYLIGHT
BEGIN:STANDARD
TZOFFSETFROM:-0400
TZOFFSETTO:-0500
TZNAME:EST
DTSTART:20181104T060000
END:STANDARD
END:VTIMEZONE
BEGIN:VEVENT
DTSTART;TZID=America/Detroit:20180318T160000
DTEND;TZID=America/Detroit:20180318T170000
DTSTAMP:20260424T092413
CREATED:20180215T134037Z
LAST-MODIFIED:20180215T134336Z
UID:1359-1521388800-1521392400@www.blythefieldcrc.com
SUMMARY:"Troubled Waters" Community Worship
DESCRIPTION:A Community Worship Service of Listening\, Lament\, and Hope.
URL:https://www.blythefieldcrc.com/event/troubled-waters-community-worship/
LOCATION:Blythefield CRC\, 6350 Kuttshill Dr.\, Rockford\, MI\, 49341\, United States
CATEGORIES:Church Service
END:VEVENT
END:VCALENDAR