BEGIN:VCALENDAR
VERSION:2.0
PRODID:-//Blythefield CRC - ECPv5.14.1//NONSGML v1.0//EN
CALSCALE:GREGORIAN
METHOD:PUBLISH
X-WR-CALNAME:Blythefield CRC
X-ORIGINAL-URL:https://www.blythefieldcrc.com
X-WR-CALDESC:Events for Blythefield CRC
BEGIN:VTIMEZONE
TZID:America/Detroit
BEGIN:DAYLIGHT
TZOFFSETFROM:-0500
TZOFFSETTO:-0400
TZNAME:EDT
DTSTART:20180311T070000
END:DAYLIGHT
BEGIN:STANDARD
TZOFFSETFROM:-0400
TZOFFSETTO:-0500
TZNAME:EST
DTSTART:20181104T060000
END:STANDARD
END:VTIMEZONE
BEGIN:VEVENT
DTSTART;TZID=America/Detroit:20180110T073000
DTEND;TZID=America/Detroit:20180110T083000
DTSTAMP:20260424T123104
CREATED:20180103T144719Z
LAST-MODIFIED:20180103T144719Z
UID:1137-1515569400-1515573000@www.blythefieldcrc.com
SUMMARY:Men's Fellowship
DESCRIPTION:
URL:https://www.blythefieldcrc.com/event/mens-fellowship/
LOCATION:Blythefield CRC\, 6350 Kuttshill Dr.\, Rockford\, MI\, 49341\, United States
CATEGORIES:Church Group Meetings
END:VEVENT
BEGIN:VEVENT
DTSTART;TZID=America/Detroit:20180110T183000
DTEND;TZID=America/Detroit:20180110T193000
DTSTAMP:20260424T123104
CREATED:20180103T144749Z
LAST-MODIFIED:20180103T144749Z
UID:1139-1515609000-1515612600@www.blythefieldcrc.com
SUMMARY:Men's Life
DESCRIPTION:
URL:https://www.blythefieldcrc.com/event/mens-life/
LOCATION:Blythefield CRC\, 6350 Kuttshill Dr.\, Rockford\, MI\, 49341\, United States
CATEGORIES:Church Group Meetings
END:VEVENT
END:VCALENDAR