BEGIN:VCALENDAR
VERSION:2.0
PRODID:-//Blythefield CRC - ECPv5.14.1//NONSGML v1.0//EN
CALSCALE:GREGORIAN
METHOD:PUBLISH
X-WR-CALNAME:Blythefield CRC
X-ORIGINAL-URL:https://www.blythefieldcrc.com
X-WR-CALDESC:Events for Blythefield CRC
BEGIN:VTIMEZONE
TZID:America/Detroit
BEGIN:DAYLIGHT
TZOFFSETFROM:-0500
TZOFFSETTO:-0400
TZNAME:EDT
DTSTART:20170312T070000
END:DAYLIGHT
BEGIN:STANDARD
TZOFFSETFROM:-0400
TZOFFSETTO:-0500
TZNAME:EST
DTSTART:20171105T060000
END:STANDARD
END:VTIMEZONE
BEGIN:VEVENT
DTSTART;VALUE=DATE:20171231
DTEND;VALUE=DATE:20180101
DTSTAMP:20260424T124224
CREATED:20171219T041921Z
LAST-MODIFIED:20171219T041921Z
UID:963-1514678400-1514764799@www.blythefieldcrc.com
SUMMARY:No Sunday School
DESCRIPTION:Sunday School will not be in session today.
URL:https://www.blythefieldcrc.com/event/no-sunday-school-2/
CATEGORIES:Church Service
END:VEVENT
BEGIN:VEVENT
DTSTART;VALUE=DATE:20171231
DTEND;VALUE=DATE:20180101
DTSTAMP:20260424T124224
CREATED:20171219T041953Z
LAST-MODIFIED:20171219T041953Z
UID:965-1514678400-1514764799@www.blythefieldcrc.com
SUMMARY:No PM Service
DESCRIPTION:We will not be having an evening service today.
URL:https://www.blythefieldcrc.com/event/no-pm-service-2/
CATEGORIES:Church Service
END:VEVENT
BEGIN:VEVENT
DTSTART;TZID=America/Detroit:20171231T100000
DTEND;TZID=America/Detroit:20171231T120000
DTSTAMP:20260424T124224
CREATED:20171219T042124Z
LAST-MODIFIED:20171219T042724Z
UID:967-1514714400-1514721600@www.blythefieldcrc.com
SUMMARY:AM Service with Rev. Mast
DESCRIPTION:Join us this morning as we welcome Rev. Stan Mast to lead us in worship.
URL:https://www.blythefieldcrc.com/event/service-rev-mast/
CATEGORIES:Church Service
END:VEVENT
END:VCALENDAR