BEGIN:VCALENDAR
VERSION:2.0
PRODID:-//Blythefield CRC - ECPv5.14.1//NONSGML v1.0//EN
CALSCALE:GREGORIAN
METHOD:PUBLISH
X-WR-CALNAME:Blythefield CRC
X-ORIGINAL-URL:https://www.blythefieldcrc.com
X-WR-CALDESC:Events for Blythefield CRC
BEGIN:VTIMEZONE
TZID:America/Detroit
BEGIN:DAYLIGHT
TZOFFSETFROM:-0500
TZOFFSETTO:-0400
TZNAME:EDT
DTSTART:20170312T070000
END:DAYLIGHT
BEGIN:STANDARD
TZOFFSETFROM:-0400
TZOFFSETTO:-0500
TZNAME:EST
DTSTART:20171105T060000
END:STANDARD
END:VTIMEZONE
BEGIN:VEVENT
DTSTART;TZID=America/Detroit:20171226T150000
DTEND;TZID=America/Detroit:20171226T190000
DTSTAMP:20260424T140521
CREATED:20171219T041646Z
LAST-MODIFIED:20171219T044445Z
UID:957-1514300400-1514314800@www.blythefieldcrc.com
SUMMARY:Blood Drive
DESCRIPTION:Your donations are very much appreciated!
URL:https://www.blythefieldcrc.com/event/blood-drive/
LOCATION:Blythefield CRC\, 6350 Kuttshill Dr.\, Rockford\, MI\, 49341\, United States
CATEGORIES:Events
END:VEVENT
END:VCALENDAR