BEGIN:VCALENDAR
VERSION:2.0
PRODID:-//Blythefield CRC - ECPv5.14.1//NONSGML v1.0//EN
CALSCALE:GREGORIAN
METHOD:PUBLISH
X-WR-CALNAME:Blythefield CRC
X-ORIGINAL-URL:https://www.blythefieldcrc.com
X-WR-CALDESC:Events for Blythefield CRC
BEGIN:VTIMEZONE
TZID:America/Detroit
BEGIN:DAYLIGHT
TZOFFSETFROM:-0500
TZOFFSETTO:-0400
TZNAME:EDT
DTSTART:20170312T070000
END:DAYLIGHT
BEGIN:STANDARD
TZOFFSETFROM:-0400
TZOFFSETTO:-0500
TZNAME:EST
DTSTART:20171105T060000
END:STANDARD
END:VTIMEZONE
BEGIN:VEVENT
DTSTART;VALUE=DATE:20171224
DTEND;VALUE=DATE:20171225
DTSTAMP:20260424T140423
CREATED:20171219T041245Z
LAST-MODIFIED:20171219T041245Z
UID:953-1514073600-1514159999@www.blythefieldcrc.com
SUMMARY:No Sunday School
DESCRIPTION:Sunday School will not be in session today.
URL:https://www.blythefieldcrc.com/event/no-sunday-school/
LOCATION:Blythefield CRC\, 6350 Kuttshill Dr.\, Rockford\, MI\, 49341\, United States
CATEGORIES:Church Service
END:VEVENT
BEGIN:VEVENT
DTSTART;VALUE=DATE:20171224
DTEND;VALUE=DATE:20171225
DTSTAMP:20260424T140423
CREATED:20171219T041345Z
LAST-MODIFIED:20171219T041345Z
UID:955-1514073600-1514159999@www.blythefieldcrc.com
SUMMARY:No PM Service
DESCRIPTION:We will not have a PM service this evening.
URL:https://www.blythefieldcrc.com/event/no-pm-service/
LOCATION:Blythefield CRC\, 6350 Kuttshill Dr.\, Rockford\, MI\, 49341\, United States
CATEGORIES:Church Service
END:VEVENT
END:VCALENDAR