BEGIN:VCALENDAR
VERSION:2.0
PRODID:-//Blythefield CRC - ECPv5.14.1//NONSGML v1.0//EN
CALSCALE:GREGORIAN
METHOD:PUBLISH
X-WR-CALNAME:Blythefield CRC
X-ORIGINAL-URL:https://www.blythefieldcrc.com
X-WR-CALDESC:Events for Blythefield CRC
BEGIN:VTIMEZONE
TZID:America/Detroit
BEGIN:DAYLIGHT
TZOFFSETFROM:-0500
TZOFFSETTO:-0400
TZNAME:EDT
DTSTART:20200308T070000
END:DAYLIGHT
BEGIN:STANDARD
TZOFFSETFROM:-0400
TZOFFSETTO:-0500
TZNAME:EST
DTSTART:20201101T060000
END:STANDARD
END:VTIMEZONE
BEGIN:VEVENT
DTSTART;TZID=America/Detroit:20200202T170000
DTEND;TZID=America/Detroit:20200202T180000
DTSTAMP:20260425T080125
CREATED:20200109T204238Z
LAST-MODIFIED:20200109T204238Z
UID:4374-1580662800-1580666400@www.blythefieldcrc.com
SUMMARY:We welcome Dr. Jeff Fisher
DESCRIPTION:
URL:https://www.blythefieldcrc.com/event/we-welcome-dr-jeff-fisher/
CATEGORIES:Church Service
END:VEVENT
END:VCALENDAR