BEGIN:VCALENDAR
VERSION:2.0
PRODID:-//Blythefield CRC - ECPv5.14.1//NONSGML v1.0//EN
CALSCALE:GREGORIAN
METHOD:PUBLISH
X-WR-CALNAME:Blythefield CRC
X-ORIGINAL-URL:https://www.blythefieldcrc.com
X-WR-CALDESC:Events for Blythefield CRC
BEGIN:VTIMEZONE
TZID:America/Detroit
BEGIN:DAYLIGHT
TZOFFSETFROM:-0500
TZOFFSETTO:-0400
TZNAME:EDT
DTSTART:20190310T070000
END:DAYLIGHT
BEGIN:STANDARD
TZOFFSETFROM:-0400
TZOFFSETTO:-0500
TZNAME:EST
DTSTART:20191103T060000
END:STANDARD
END:VTIMEZONE
BEGIN:VEVENT
DTSTART;TZID=America/Detroit:20191110T170000
DTEND;TZID=America/Detroit:20191110T180000
DTSTAMP:20260419T203012
CREATED:20191023T145850Z
LAST-MODIFIED:20191023T145850Z
UID:3969-1573405200-1573408800@www.blythefieldcrc.com
SUMMARY:PM Rev. Henry Admiraal
DESCRIPTION:
URL:https://www.blythefieldcrc.com/event/pm-rev-henry-admiraal-3/
CATEGORIES:Church Service
END:VEVENT
END:VCALENDAR