BEGIN:VCALENDAR
VERSION:2.0
PRODID:-//Blythefield CRC - ECPv5.14.1//NONSGML v1.0//EN
CALSCALE:GREGORIAN
METHOD:PUBLISH
X-WR-CALNAME:Blythefield CRC
X-ORIGINAL-URL:https://www.blythefieldcrc.com
X-WR-CALDESC:Events for Blythefield CRC
BEGIN:VTIMEZONE
TZID:America/Detroit
BEGIN:DAYLIGHT
TZOFFSETFROM:-0500
TZOFFSETTO:-0400
TZNAME:EDT
DTSTART:20200308T070000
END:DAYLIGHT
BEGIN:STANDARD
TZOFFSETFROM:-0400
TZOFFSETTO:-0500
TZNAME:EST
DTSTART:20201101T060000
END:STANDARD
END:VTIMEZONE
BEGIN:VEVENT
DTSTART;TZID=America/Detroit:20200311T073000
DTEND;TZID=America/Detroit:20200311T090000
DTSTAMP:20260425T075059
CREATED:20200226T195025Z
LAST-MODIFIED:20200226T195025Z
UID:4580-1583911800-1583917200@www.blythefieldcrc.com
SUMMARY:Men's Fellowship
DESCRIPTION:
URL:https://www.blythefieldcrc.com/event/mens-fellowship-20/
LOCATION:Russ’ Plainfield\, 3966 Plainfield Ave NE\, Grand Rapids\, MI\, 49525\, United States
CATEGORIES:Church Group Meetings
END:VEVENT
END:VCALENDAR