BEGIN:VCALENDAR
VERSION:2.0
PRODID:-//Blythefield CRC - ECPv5.14.1//NONSGML v1.0//EN
CALSCALE:GREGORIAN
METHOD:PUBLISH
X-WR-CALNAME:Blythefield CRC
X-ORIGINAL-URL:https://www.blythefieldcrc.com
X-WR-CALDESC:Events for Blythefield CRC
BEGIN:VTIMEZONE
TZID:America/Detroit
BEGIN:DAYLIGHT
TZOFFSETFROM:-0500
TZOFFSETTO:-0400
TZNAME:EDT
DTSTART:20230312T070000
END:DAYLIGHT
BEGIN:STANDARD
TZOFFSETFROM:-0400
TZOFFSETTO:-0500
TZNAME:EST
DTSTART:20231105T060000
END:STANDARD
END:VTIMEZONE
BEGIN:VEVENT
DTSTART;TZID=America/Detroit:20230201T183000
DTEND;TZID=America/Detroit:20230201T200000
DTSTAMP:20260422T062204
CREATED:20230120T151713Z
LAST-MODIFIED:20230120T151713Z
UID:8189-1675276200-1675281600@www.blythefieldcrc.com
SUMMARY:Gems/Cadets/Wow/Men's Life
DESCRIPTION:Girls Club for K-8th grade\, Boys Club for 1st-8th grade\, women’s and men’s Bible studies.
URL:https://www.blythefieldcrc.com/event/gems-cadets-wow-mens-life-21/
LOCATION:Blythefield CRC\, 6350 Kuttshill Dr.\, Rockford\, MI\, 49341\, United States
END:VEVENT
END:VCALENDAR