BEGIN:VCALENDAR
VERSION:2.0
PRODID:-//Blythefield CRC - ECPv5.14.1//NONSGML v1.0//EN
CALSCALE:GREGORIAN
METHOD:PUBLISH
X-WR-CALNAME:Blythefield CRC
X-ORIGINAL-URL:https://www.blythefieldcrc.com
X-WR-CALDESC:Events for Blythefield CRC
BEGIN:VTIMEZONE
TZID:America/Detroit
BEGIN:DAYLIGHT
TZOFFSETFROM:-0500
TZOFFSETTO:-0400
TZNAME:EDT
DTSTART:20240310T070000
END:DAYLIGHT
BEGIN:STANDARD
TZOFFSETFROM:-0400
TZOFFSETTO:-0500
TZNAME:EST
DTSTART:20241103T060000
END:STANDARD
END:VTIMEZONE
BEGIN:VEVENT
DTSTART;TZID=America/Detroit:20241214T130000
DTEND;TZID=America/Detroit:20241214T143000
DTSTAMP:20260419T162018
CREATED:20241112T163904Z
LAST-MODIFIED:20241112T163904Z
UID:9531-1734181200-1734186600@www.blythefieldcrc.com
SUMMARY:Christmas Delight
DESCRIPTION:Come see a play put on by Master Arts Theatre entitled\, “Christmas in Many Parts” followed by snacks and carols! Free will offering will be taken.  Children welcome.
URL:https://www.blythefieldcrc.com/event/christmas-delight/
LOCATION:Blythefield CRC\, 6350 Kuttshill Dr.\, Rockford\, MI\, 49341\, United States
END:VEVENT
END:VCALENDAR