BEGIN:VCALENDAR
VERSION:2.0
PRODID:-//Blythefield CRC - ECPv5.14.1//NONSGML v1.0//EN
CALSCALE:GREGORIAN
METHOD:PUBLISH
X-WR-CALNAME:Blythefield CRC
X-ORIGINAL-URL:https://www.blythefieldcrc.com
X-WR-CALDESC:Events for Blythefield CRC
BEGIN:VTIMEZONE
TZID:America/Detroit
BEGIN:DAYLIGHT
TZOFFSETFROM:-0500
TZOFFSETTO:-0400
TZNAME:EDT
DTSTART:20200308T070000
END:DAYLIGHT
BEGIN:STANDARD
TZOFFSETFROM:-0400
TZOFFSETTO:-0500
TZNAME:EST
DTSTART:20201101T060000
END:STANDARD
END:VTIMEZONE
BEGIN:VEVENT
DTSTART;TZID=America/Detroit:20200315T100000
DTEND;TZID=America/Detroit:20200315T110000
DTSTAMP:20260425T061836
CREATED:20200226T195319Z
LAST-MODIFIED:20200226T195319Z
UID:4590-1584266400-1584270000@www.blythefieldcrc.com
SUMMARY:AM-Seminarian Erik deLange
DESCRIPTION:
URL:https://www.blythefieldcrc.com/event/am-seminarian-erik-delange-2/
CATEGORIES:Church Service
END:VEVENT
END:VCALENDAR